BEGIN:VCALENDAR
VERSION:2.0
PRODID:-//Neurology//NONSGML Events//EN
CALSCALE:GREGORIAN
X-ORIGINAL-URL:https://neurology.wustl.edu/events-listing/
X-WR-CALDESC:Neurology - Events
BEGIN:VEVENT
UID:20250619T1810Z-1750356631.2232-EO-12142-1@10.73.10.224
STATUS:CONFIRMED
DTSTAMP:20260418T210352Z
CREATED:20250619T165636Z
LAST-MODIFIED:20250619T165636Z
DTSTART;TZID=America/Chicago:20250711T120000
DTEND;TZID=America/Chicago:20250711T130000
SUMMARY: UE5 Workshop Series
DESCRIPTION: Learn more
X-ALT-DESC;FMTTYPE=text/html: <p><a href="https://neurology.wustl.edu/items
 /ue5-workshop-series/">Learn more</a></p>
CATEGORIES:UE5 Workshop Series
ORGANIZER;CN="hbrian":MAILTO:hbrian@wustl.edu
URL;VALUE=URI:https://neurology.wustl.edu/events/event/ue5-workshop-series-
 2/
END:VEVENT
BEGIN:VTIMEZONE
TZID:America/Chicago
BEGIN:DAYLIGHT
TZOFFSETFROM:-0600
TZOFFSETTO:-0500
DTSTART:20250309T080000
TZNAME:CDT
END:DAYLIGHT
END:VTIMEZONE
END:VCALENDAR
