BEGIN:VCALENDAR
VERSION:2.0
PRODID:-//Neurology//NONSGML Events//EN
CALSCALE:GREGORIAN
X-ORIGINAL-URL:https://neurology.wustl.edu/events-listing/
X-WR-CALDESC:Neurology - Events
BEGIN:VEVENT
UID:20250214T1816Z-1739556999.4816-EO-11402-1@10.73.10.224
STATUS:CONFIRMED
DTSTAMP:20260425T223913Z
CREATED:20230522T170855Z
LAST-MODIFIED:20230522T170855Z
DTSTART;TZID=America/Chicago:20230607T120000
DTEND;TZID=America/Chicago:20230607T130000
SUMMARY: Summer Science Seminar Series
DESCRIPTION: Please join us for the Summer Science Seminar Series in collab
 oration with Julianne Mason in DBBS. Starting on June 7 and running through
  July 19\, we’ll host six Wednesday seminars in Connor Auditorium from noon
  to 1 pm (with food) for all summer undergraduates in your programs. Briefl
 y\, three seminars will focus on scientific research\; […]
X-ALT-DESC;FMTTYPE=text/html: <p class="pb-2" data-private="redact" data-wt
 -guid="c36208f1-078a-4317-923c-cb83c86a6d4c" data-pm-slice="1 1 []"><strong
 >Please join us for the Summer Science Seminar Series in collaboration with
  <em>Julianne Mason </em><span class="issue-underline underline text-gray-d
 arkest font-body decoration-2 underline-offset-4 transition decoration-erro
 r-light hover:bg-error-lightest" data-issueid="941483dd-4b61-4839-beb3-18c7
 f5ec4344" data-testid="issue-underline:at"><em>in</em></span><em> DBBS</em>
 .</strong></p><p>Starting on <strong>June 7 and running through July 19\,</
 strong> we’ll host six Wednesday seminars in <strong>Connor Auditorium from
  noon to 1 pm</strong> (with food) for all summer undergraduates in your pr
 ograms.</p><p><strong>Briefly\, three seminars will focus on scientific res
 earch\; for each of these seminars (June 7\, 14\, and 28)\, three faculty m
 embers will give short\, 15-minute\, big-picture talks about their research
 . On June 21\, we will host a career panel at which three scientists will g
 ive personal reflections about their career path\, and we’ll wrap-up the se
 ries with talks on what to expect and how to succeed along the MD/MD-PhD (J
 uly 12) and the PhD paths (July 19).</strong></p><p>This week speakers:</p>
 <table style="font-weight: 400\; height: 212px\;" width="630"><tbody><tr><t
 d width="462"><strong>Jason Weber- Tumor Suppressors and Cancer Biology  </
 strong></td></tr><tr><td width="462"><strong>Helen McNeill- Growth Control 
   </strong></td></tr><tr><td width="462"><strong>Erik Herzog- Circadian Rhy
 thms: Timing is everything   </strong></td></tr></tbody></table><p> </p><p>
  </p><p> </p><p> </p><p>Individuals with disabilities are encouraged to att
 end all Washington University School of Medicine sponsored events. If you a
 re a person with a disability who requires reasonable accommodation to part
 icipate in this event at least one week before the event\, don't hesitate t
 o get in touch with the Washington University School of Medicine Office of 
 Diversity\, Equity\, and Inclusion in advance at 314-273-2809 or <a href="m
 ailto:MedDEI@wustl.edu">MedDEI@wustl.edu</a></p>
LOCATION:Connor Auditorium\, Farrell Learning &amp\; Teaching Center (FLTC)
GEO:38.635402;-90.262703
ORGANIZER;CN="Katie Cammarata":MAILTO:cammarata@wustl.edu
URL;VALUE=URI:https://neurology.wustl.edu/events/event/summer-science-semin
 ar-series/
END:VEVENT
BEGIN:VTIMEZONE
TZID:America/Chicago
BEGIN:DAYLIGHT
TZOFFSETFROM:-0600
TZOFFSETTO:-0500
DTSTART:20230312T080000
TZNAME:CDT
END:DAYLIGHT
END:VTIMEZONE
END:VCALENDAR
