BEGIN:VCALENDAR
VERSION:2.0
PRODID:-//Neurology//NONSGML Events//EN
CALSCALE:GREGORIAN
X-ORIGINAL-URL:https://neurology.wustl.edu/events-listing/
X-WR-CALDESC:Neurology - Events
BEGIN:VEVENT
UID:20250214T1816Z-1739556998.9576-EO-11361-1@10.73.10.224
STATUS:CONFIRMED
DTSTAMP:20260425T091549Z
CREATED:20230227T144127Z
LAST-MODIFIED:20230227T144127Z
DTSTART;TZID=America/Chicago:20230317T120000
DTEND;TZID=America/Chicago:20230317T130000
SUMMARY: Perspectives: What is Title IX?
DESCRIPTION: Perspectives seeks to provide space for participants to share 
 experiences and build muscles for listening\, understanding\, empathy and d
 ialogue across viewpoints. To create a space for more authentic sharing\, w
 e do not record Perspectives sessions. Typically\, sessions include both sm
 all group and large group discussions. For this Perspectives session\, we w
 ill be discussing the law […]
X-ALT-DESC;FMTTYPE=text/html: <p style="font-weight: 400\;">Perspectives se
 eks to provide space for participants to share experiences and build muscle
 s for listening\, understanding\, empathy and dialogue across viewpoints. T
 o create a space for more authentic sharing\, we do not record Perspectives
  sessions. Typically\, sessions include both small group and large group di
 scussions. For this Perspectives session\, we will be discussing the law of
  Title IX\, how it has changed over time\, and implications for higher educ
 ation practitioners. During the discussion\, we will explore reactions to l
 earning more about the law and how it might impact our interaction with our
  own <a href="https://titleix.wustl.edu/" data-ogsc="">Gender Equity and Ti
 tle IX Compliance Office</a>.</p><p style="font-weight: 400\;">Please regis
 ter to attend!</p><p>[formidable id="414"]</p><p> </p><p>Individuals with d
 isabilities are encouraged to attend all Washington University School of Me
 dicine sponsored events. If you are a person with a disability who requires
  reasonable accommodation to participate in this event at least one week be
 fore the event\, don't hesitate to get in touch with the Washington Univers
 ity School of Medicine Office of Diversity\, Equity\, and Inclusion in adva
 nce at 314-273-2809 or <a href="mailto:MedDEI@wustl.edu">MedDEI@wustl.edu</
 a></p>
ORGANIZER;CN="Katie Cammarata":MAILTO:cammarata@wustl.edu
URL;VALUE=URI:https://neurology.wustl.edu/events/event/perspectives-what-is
 -title-ix/
END:VEVENT
BEGIN:VTIMEZONE
TZID:America/Chicago
BEGIN:DAYLIGHT
TZOFFSETFROM:-0600
TZOFFSETTO:-0500
DTSTART:20230312T080000
TZNAME:CDT
END:DAYLIGHT
END:VTIMEZONE
END:VCALENDAR
