BEGIN:VCALENDAR
VERSION:2.0
PRODID:-//Neurology//NONSGML Events//EN
CALSCALE:GREGORIAN
X-ORIGINAL-URL:https://neurology.wustl.edu/events-listing/
X-WR-CALDESC:Neurology - Events
BEGIN:VEVENT
UID:20220825T2053Z-1661460781.0069-EO-3874-1@172.23.128.19
STATUS:CONFIRMED
DTSTAMP:20260422T120827Z
CREATED:20220825T151149Z
LAST-MODIFIED:20230202T230830Z
DTSTART;TZID=America/Chicago:20220825T120000
DTEND;TZID=America/Chicago:20220825T130000
SUMMARY: Perspectives: Stop Calling Me Diverse
DESCRIPTION: Language is important in shaping and communicating culture and
  the values associated with it. The Office of Diversity\, Equity and Inclus
 ion will be hosting 2 virtual sessions of this Perspectives to discuss the 
 use of the term “diverse” to describe people with different racial and ethn
 ic backgrounds.  As we work to transform our culture to […]
X-ALT-DESC;FMTTYPE=text/html: <p style="font-weight: 400\;">Language is imp
 ortant in shaping and communicating culture and the values associated with 
 it. The Office of Diversity\, Equity and Inclusion will be hosting 2 virtua
 l sessions of this Perspectives to discuss the use of the term “diverse” to
  describe people with different racial and ethnic backgrounds.  As we work 
 to transform our culture to actively value diversity\, center equity in dec
 ision making and create a more inclusive campus culture it is helpful to ex
 amine common language we use and its impact.  The session will use <a href=
 "https://www.clime.rutgers.edu/blog/stop-calling-me-diverse"><u>this articl
 e</u></a> as our discussion starter. The goal of Perspectives is to engage 
 in productive dialogue across different experiences and viewpoints. We enco
 urage all to participate whether you agree with the perspective offered in 
 the article or not. Click the link below to register for the date that work
 s for you.</p><p style="font-weight: 400\;"><a href="https://diversity.med.
 wustl.edu/events/calendar/perspectives-stop-calling-me-diverse/"><strong><u
 >Thursday\, August 25<sup>th</sup> from 12:00-1:00p</u></strong></a></p><p 
 style="font-weight: 400\;"><a href="https://diversity.med.wustl.edu/events/
 calendar/perspectives-stop-calling-me-diversity-august-29-2022/"><strong><u
 >Monday\, August 29<sup>th</sup> from 11:30a -12:30p</u></strong></a></p>
CATEGORIES:DEI
LOCATION:Virtual
GEO:41.875562;-87.624421
ORGANIZER;CN="Katie Cammarata":MAILTO:cammarata@wustl.edu
URL;VALUE=URI:https://neurology.wustl.edu/events/event/perspectives-stop-ca
 lling-me-diverse/
END:VEVENT
BEGIN:VTIMEZONE
TZID:America/Chicago
BEGIN:DAYLIGHT
TZOFFSETFROM:-0600
TZOFFSETTO:-0500
DTSTART:20220313T080000
TZNAME:CDT
END:DAYLIGHT
END:VTIMEZONE
END:VCALENDAR
