BEGIN:VCALENDAR
VERSION:2.0
PRODID:-//Neurology//NONSGML Events//EN
CALSCALE:GREGORIAN
X-ORIGINAL-URL:https://neurology.wustl.edu/events-listing/
X-WR-CALDESC:Neurology - Events
BEGIN:VEVENT
UID:20250214T1816Z-1739556999.07-EO-11369-1@10.73.10.224
STATUS:CONFIRMED
DTSTAMP:20260425T140744Z
CREATED:20230405T192334Z
LAST-MODIFIED:20230405T192334Z
DTSTART;VALUE=DATE:20230405
DTEND;VALUE=DATE:20230414
SUMMARY: Passover/Pesach | Judaism
DESCRIPTION: PASSOVER BEGINS TONIGHT: HERE’S WHAT YOU NEED TO KNOW! Tonight
  marks the first night of Passover 2023\, and many across the WashUMed comm
 unity will sit down to a seder\, a ritual meal traditionally held on the fi
 rst two nights of the eight-day Jewish holiday. What is Passover? Passover\
 , or Pesach in Hebrew\, is one of […]
X-ALT-DESC;FMTTYPE=text/html: <div class="page" title="Page 13"><div class=
 "layoutArea"><div class="column"><h5>PASSOVER BEGINS TONIGHT: HERE’S WHAT Y
 OU NEED TO KNOW!</h5><p>Tonight marks the first night of Passover 2023\, an
 d many across the WashUMed community will sit down to a <em>seder</em>\, a 
 ritual meal traditionally held on the first two nights of the eight-day Jew
 ish holiday.</p><h5 class="page" title="Page 1"><em>What is Passover?</em><
 /h5><div class="column"><p>Passover\, or Pesach in Hebrew\, is one of the J
 ewish religion’s most sacred and widely observed holidays. In Judaism\, Pas
 sover commemorates the story of the Israelites’ departure from ancient Egyp
 t\, which appears in the Hebrew Bible’s books of Exodus\, Numbers and Deute
 ronomy\, among other texts. Jews observe the weeklong festival with a numbe
 r of important rituals\, including a traditional Passover meal known as a s
 eder\, the removal of leavened products from their home\, the substitution 
 of matzo for bread and the retelling of the exodus tale.</p></div></div></d
 iv></div><p><em><strong>– Festival of Freedom *Begins sundown on April 5\, 
 food restrictions all days\, work restrictions 4/5 sundown - 4/7 sundown an
 d 4/11 sundown - 4/13 sundown</strong></em></p><h5><em>How long is Passover
 ?</em></h5><p>Passover lasts seven to eight days\, “depending on family and
  communal custom\,” according to the Union for Reform Judaism. In 2023\, th
 e holiday runs from the evening of April 5 to the evening of April 13. On t
 he first two days and the last two days of Pesach\, no work is permitted. D
 uring the middle four days\, work is permitted.</p><h5><em>Passover Greetin
 gs</em></h5><p>There are a few sayings you can use to wish someone a happy 
 Passover. “Chag Pesach sameach\,” which means “Happy Passover\,” or “Chag S
 ameach\,” which means “Happy holiday\,” are two of the most common greeting
 s to use. “Chag kasher v’sameach\,” which means “Happy and kosher holiday\,
 ” is another appropriate greeting.</p><h5><em>Resources:</em></h5><div clas
 s="page" title="Page 1"><div class="layoutArea"><div class="column"><p><em>
 <strong>-Common Practices and Celebrations</strong></em></p><ul><li>Family 
 and friends gather for Seders.</li><li>At Seders people often discuss past 
 and current injustices in their country of residence and elsewhere in the w
 orld.<ul><li><em style="font-size: 1.125rem\;">Avoid scheduling important a
 cademic deadlines\, events or activities.</em></li></ul></li></ul><p><em><s
 trong><span style="font-size: 1.125rem\;">-Common Dietary Restrictions</spa
 n></strong></em></p><div class="page" title="Page 1"><div class="layoutArea
 "><div class="column"><ul><li>No leavened or fermented food are eaten. Addi
 tionally\, some observers of Judaism follow kosher rules of eating.</li><li
 >Meat and dairy are not eaten together.</li><li>Pork and seafood are not ea
 ten.<ul><li><em style="font-size: 1.125rem\;"> Food accommodations should b
 e made for events. Besides Kosher restrictions\, the use of leavening is pr
 ohibited\; matzah is eaten in place of bread. </em></li></ul></li></ul><h5>
 <em>Tips on supporting the WUSM Community</em></h5><p><a href="https://cpb-
 us-w2.wpmucdn.com/sites.wustl.edu/dist/c/2883/files/2021/12/Religious-Holid
 ay-Class-Absence-Policy-Final_November-2021.pdf">-WashU Religious-Holiday-C
 lass-Absence-Policy </a></p><p>Ask community members in observance how they
  celebrate and how they can be supported and encouraged!</p><ul><li><strong
 >Professors and instructors:</strong> When planning tests\, field trips\, o
 r other major events in your classroom\, use the calendar to prepare for im
 pacts to your class on a day that students may take off due to an observanc
 e.<ul><li>Avoid scheduling important academic deadlines\, events\, or activ
 ities during the first two and last two days of these Holy Days.</li></ul><
 /li><li><strong>Students:</strong> When recognizing an academic requirement
  may land on a date of observance for you\, make time to communicate with y
 our instructor well in advance to find a way to work with your academics an
 d your beliefs.<ul><li>While students are not automatically excused from cl
 ass for this observance\, they may work with their course instructors to ma
 ke accommodations. Graduate and professional students must refer to their o
 wn school and departmental vacation policies and calendars for more specifi
 c information.</li></ul></li><li><strong>Employees:</strong> Utilize this c
 alendar when planning a training\, retreat or social event to consider when
  staff may be taking time off for religious accommodations.<ul><li>Expect t
 hat observers will not attend meetings or communicate during the first two 
 and last two days of these Holy Days.</li><li>Staff members may request pai
 d time off for this observance. Support their preference to take leave for 
 their religious observance.</li></ul></li></ul></div></div></div></div></di
 v></div><p class="xmsonormal">-Follow the <a href="https://www.instagram.co
 m/washu_chabad/?hl=en">WashU Chabad</a> on Instagram for upcoming events & 
 holidays\, student spotlights\, and amazing opportunities to become involve
 d in our very own WashJew community!</p><p>-<a href="https://www.chabadwash
 u.org/templates/articlecco_cdo/aid/74066/jewish/JGrads-Young-Adults.htm">JG
 rads & Young Adults</a>: JGrads is dedicated to serving Jewish graduate stu
 dents\, professional students and recent college graduates living in the St
 . Louis area. We build community through social programming\, career networ
 king\, cultural celebrations\, and Jewish learning. Some of our past events
  have included: happy hours\, paint nights\, speakers\, campus lunch ‘n’ le
 arns\, etc.</p><p>-Download a copy of <a href="https://www.washuhillel.org/
 ">WashU Hillel's</a> Community Passover cookbook by clicking <a href="https
 ://www.washuhillel.org/file_download/532bbd55-f2a5-4cd3-8b76-aaa77e7b7cf2">
 here</a>!</p><p>-<a href="https://stljewishlight.org/news/news-local/washu-
 hillel-carries-on-long-standing-passover-meal-tradition/">WashU Hillel carr
 ies on long-standing Passover meal tradition</a></p><p>-Visit: <a href="htt
 ps://students.wustl.edu/office-religious-spiritual-and-ethical-life/">Offic
 e for Religious\, Spiritual and Ethical Life</a></p><p><a href="https://stu
 dents.wustl.edu/washu-spaces-prayer-reflection/">-WashU Spaces for Prayer a
 nd Reflection</a></p><p> </p><p> </p>
CATEGORIES:April Cultural Celebrations and Observances
ORGANIZER;CN="Katie Cammarata":MAILTO:cammarata@wustl.edu
URL;VALUE=URI:https://neurology.wustl.edu/events/event/passover-pesach-juda
 ism/
END:VEVENT
BEGIN:VTIMEZONE
TZID:America/Chicago
BEGIN:DAYLIGHT
TZOFFSETFROM:-0600
TZOFFSETTO:-0500
DTSTART:20230312T080000
TZNAME:CDT
END:DAYLIGHT
END:VTIMEZONE
END:VCALENDAR
