BEGIN:VCALENDAR
VERSION:2.0
PRODID:-//Neurology//NONSGML Events//EN
CALSCALE:GREGORIAN
X-ORIGINAL-URL:https://neurology.wustl.edu/events-listing/
X-WR-CALDESC:Neurology - Events
BEGIN:VEVENT
UID:20250214T1816Z-1739556997.3631-EO-11080-1@10.73.10.224
STATUS:CONFIRMED
DTSTAMP:20260425T160712Z
CREATED:20220907T192929Z
LAST-MODIFIED:20220907T192929Z
DTSTART;TZID=America/Chicago:20220909T163000
DTEND;TZID=America/Chicago:20220909T180000
SUMMARY: Neuroscience TGIF
DESCRIPTION: Please join us in celebrating the return of a Neuroscience Pro
 gram tradition\, TGIF! All are invited including students in any program as
  well as postdocs. Please note the location — TGIF will be held at the cove
 red tables outside Farmstead Café\, across from EPNEC on the medical campus
 . Neuroscience TGIFs are brought to you by […]
X-ALT-DESC;FMTTYPE=text/html: <p>Please join us in celebrating the return o
 f a Neuroscience Program tradition\, TGIF! All are invited including studen
 ts in any program as well as postdocs. Please note the location — TGIF will
  be held at the covered tables outside Farmstead Café\, across from EPNEC o
 n the medical campus.</p><p>Neuroscience TGIFs are brought to you by the <a
  href="https://systemsneuroscience.wustl.edu/" target="_blank" rel="norefer
 rer noopener">McDonnell Center for Systems Neuroscience</a>\, the <a href="
 https://sites.wustl.edu/cellularmolecularneurobiology/" target="_blank" rel
 ="noreferrer noopener">McDonnell Center for Cellular and Molecular Neurobio
 logy</a>\, the <a href="https://neuroscience.wustl.edu/" target="_blank" re
 l="noreferrer noopener">Department of Neuroscience</a>\, and the <a href="h
 ttp://dbbs.wustl.edu/Pages/index.aspx" target="_blank" rel="noreferrer noop
 ener">Vagelos Division of Biology and Biomedical Sciences (DBBS)</a>.</p><p
 >For inquiries contact Neuroscience TGIF organizers: <a href="mailto:r.rene
 au@wustl.edu" target="_blank" rel="noreferrer noopener">Rick Reneau</a> or 
 <a href="mailto:c.a.weinholtz@wustl.edu" target="_blank" rel="noreferrer no
 opener">Chase Weinholtz</a>.</p>
CATEGORIES:TGIF
LOCATION:Tables outside Farmstead Cafe (across from EPNEC)
GEO:38.637229;-90.263010
ORGANIZER;CN="Katie Cammarata":MAILTO:cammarata@wustl.edu
URL;VALUE=URI:https://neurology.wustl.edu/events/event/neuroscience-tgif-4/
END:VEVENT
BEGIN:VTIMEZONE
TZID:America/Chicago
BEGIN:DAYLIGHT
TZOFFSETFROM:-0600
TZOFFSETTO:-0500
DTSTART:20220313T080000
TZNAME:CDT
END:DAYLIGHT
END:VTIMEZONE
END:VCALENDAR
