BEGIN:VCALENDAR
VERSION:2.0
PRODID:-//Neurology//NONSGML Events//EN
CALSCALE:GREGORIAN
X-ORIGINAL-URL:https://neurology.wustl.edu/events-listing/
X-WR-CALDESC:Neurology - Events
BEGIN:VEVENT
UID:20250214T1816Z-1739556997.0446-EO-11072-1@10.73.10.224
STATUS:CONFIRMED
DTSTAMP:20260425T095900Z
CREATED:20220428T164743Z
LAST-MODIFIED:20220428T164743Z
DTSTART;TZID=America/Chicago:20220520T163000
DTEND;TZID=America/Chicago:20220520T180000
RDATE;TZID=America/Chicago:20220603T163000,20220617T163000
SUMMARY: Neuroscience TGIF
DESCRIPTION: Please join us in celebrating this week’s TGIF! All are invite
 d including students in any program as well as post docs. Please note the l
 ocation — TGIF will be held at the covered tables outside Farmstead Café\, 
 across from EPNEC on the medical campus. Neuroscience TGIFs are brought to 
 you by the McDonnell Center for Systems Neuroscience\, […]
X-ALT-DESC;FMTTYPE=text/html: <p>Please join us in celebrating this week’s 
 TGIF! All are invited including students in any program as well as post doc
 s. Please note the location — TGIF will be held at the covered tables outsi
 de Farmstead Café\, across from EPNEC on the medical campus.</p><p>Neurosci
 ence TGIFs are brought to you by the <a href="https://systemsneuroscience.w
 ustl.edu/" target="_blank" rel="noopener">McDonnell Center for Systems Neur
 oscience</a>\, the <a href="https://sites.wustl.edu/cellularmolecularneurob
 iology/" target="_blank" rel="noopener">McDonnell Center for Cellular and M
 olecular Neurobiology</a>\, the <a href="https://neuroscience.wustl.edu/" t
 arget="_blank" rel="noopener">Department of Neuroscience</a>\, and the <a h
 ref="http://dbbs.wustl.edu/Pages/index.aspx" target="_blank" rel="noopener"
 >Division of Biology and Biomedical Sciences (DBBS)</a>.</p><p>For inquirie
 s contact Neuroscience TGIF organizers: <a href="mailto:h.miwei@wustl.edu">
 Miwei Hu</a> or<a href="mailto:bernhard@wustl.edu"> Sarah Bernhard</a>.</p>
CATEGORIES:TGIF
ORGANIZER;CN="Katie Cammarata":MAILTO:cammarata@wustl.edu
URL;VALUE=URI:https://neurology.wustl.edu/events/event/neuroscience-tgif-3/
END:VEVENT
BEGIN:VTIMEZONE
TZID:America/Chicago
BEGIN:DAYLIGHT
TZOFFSETFROM:-0600
TZOFFSETTO:-0500
DTSTART:20220313T080000
TZNAME:CDT
END:DAYLIGHT
END:VTIMEZONE
END:VCALENDAR
