BEGIN:VCALENDAR
VERSION:2.0
PRODID:-//Neurology//NONSGML Events//EN
CALSCALE:GREGORIAN
X-ORIGINAL-URL:https://neurology.wustl.edu/events-listing/
X-WR-CALDESC:Neurology - Events
BEGIN:VEVENT
UID:20250214T1816Z-1739556999.2808-EO-11126-1@10.73.10.224
STATUS:CONFIRMED
DTSTAMP:20260420T175229Z
CREATED:20230403T141233Z
LAST-MODIFIED:20230403T141233Z
DTSTART;TZID=America/Chicago:20230508T090000
DTEND;TZID=America/Chicago:20230508T153000
SUMMARY: INSPIRE Symposium
DESCRIPTION: Join the Department of Neuroscience for a stimulating symposiu
 m by outstanding graduate students. INSPIRE (Interdisciplinary Neuroscience
  Seminars by PhD students to Incentivize Research Exchange) is a prestigiou
 s symposium sponsored by the Department of Neuroscience at Washington Unive
 rsity School of Medicine devoted to advancing research excellence in the ea
 rly stages of a scientist’s career. Learn more […]
X-ALT-DESC;FMTTYPE=text/html: <h2>Join the Department of Neuroscience for a
  stimulating symposium by outstanding graduate students.</h2><p>INSPIRE (In
 terdisciplinary Neuroscience Seminars by PhD students to Incentivize Resear
 ch Exchange) is a prestigious symposium sponsored by the Department of Neur
 oscience at Washington University School of Medicine devoted to advancing r
 esearch excellence in the early stages of a scientist’s career.</p><p><a hr
 ef="https://neuroscience.wustl.edu/opportunities/inspire-interdisciplinary-
 neuroscience-seminars-by-phd-students-to-incentivize-research-exchange/">Le
 arn more about INSPIRE»</a></p><p><strong><em>Lunch will be served. Please 
 register below by Friday\, April 28. To present a poster at the INSPIRE Sym
 posium\, <a href="https://forms.office.com/Pages/ResponsePage.aspx?id=taPMT
 M1xbU6XS02b65bG1q_CesTWeZZMntWnLqfa6c5UNkZQWEhWNEY5OFk0NkIwUDVaQzE0WkFQNi4u
 ">submit an abstract</a> by April 12.</em></strong></p><h3>Speakers</h3><p>
 <b>Maria </b><b>Ahmed<br /></b>Advisor: Eleanor "Josie" Clowney\, PhD\, Uni
 versity of Michigan<br /><i>Hacking development to test models of sensory <
 /i><i>coding</i></p><p><b>Priscilla </b><b>Ambrosi<br /></b>Advisor: Talia 
 N. Lerner\, PhD\, Northwestern University<br /><i>Striatonigrostriatal</i> 
 c<i>ircuits</i> <i>for </i><i>disinhibition </i><i>of </i><i>dopamine </i><
 i>s</i><i>ignaling</i><i>: New </i><i>e</i><i>vidence </i><i>c</i><i>hallen
 ges </i><i>h</i><i>abit formation </i><i>m</i><i>echanism</i></p><p><b>Davi
 d </b><b>Brann<br /></b>Advisor: Sandeep R. Datta\, MD\, PhD\, Harvard Medi
 cal School<br /><i style="font-size: 1.125rem\;">A </i><i style="font-size:
  1.125rem\;">transcriptional rheostat couples past activity to future senso
 ry </i><i style="font-size: 1.125rem\;">responses</i></p><p><b>Salwan </b><
 b>Butrus<br /></b>Advisor: Karthik Shekhar\, PhD\, UC Berkeley<br /><i>Visi
 on-dependent specification of cell types and function in the developing </i
 ><i>cortex</i></p><p><b>Alex Chen<br /></b>Advisors: Florian Engert\, PhD\,
  Harvard University\, and Misha Ahrens\, PhD\, HHMI Janelia Research Campus
 <br /><i>Astrocyte-neuron </i><i>interactions mediating behavioral state tr
 ansition and fast antidepressant </i><i>action</i></p><p><b>Nghia Nguyen<br
  /></b><span style="font-size: 1.125rem\;">Advisor: Mark Andermann\, PhD\, 
 Harvard University<br /></span><i>Cortical </i><i>reactivations predict fut
 ure sensory </i><i>responses</i></p><p><b>Julie </b><b>Ouellette<br /></b>A
 dvisor: Baptiste Lacoste\, PhD\, University of Ottawa<br /><i>Metabolic def
 ects in 16p11.2-deficient mouse brain endothelial </i><i>cells</i></p><p><b
 >I-Hao </b><b>Wang<br /></b>Advisor: Paul Greer\, PhD\, University of Massa
 chusetts<br /><i>Spatial </i><i>transcriptomic reconstruction of the mouse 
 olfactory glomerular map suggests principles of odor processing</i></p><h3>
 Please register by Friday\, April 28.</h3><p>[formidable id="3"]</p>
CATEGORIES:INSPIRE seminar series,Symposia
LOCATION:Connor Auditorium\, FLTC
GEO:38.635402;-90.262703
ORGANIZER;CN="Katie Cammarata":MAILTO:cammarata@wustl.edu
URL;VALUE=URI:https://neurology.wustl.edu/events/event/inspire-symposium/
END:VEVENT
BEGIN:VTIMEZONE
TZID:America/Chicago
BEGIN:DAYLIGHT
TZOFFSETFROM:-0600
TZOFFSETTO:-0500
DTSTART:20230312T080000
TZNAME:CDT
END:DAYLIGHT
END:VTIMEZONE
END:VCALENDAR
