BEGIN:VCALENDAR
VERSION:2.0
PRODID:-//Neurology//NONSGML Events//EN
CALSCALE:GREGORIAN
X-ORIGINAL-URL:https://neurology.wustl.edu/events-listing/
X-WR-CALDESC:Neurology - Events
BEGIN:VEVENT
UID:20230825T2135Z-1692999318.7181-EO-8315-1@172.23.128.18
STATUS:CONFIRMED
DTSTAMP:20260424T194510Z
CREATED:20230825T185442Z
LAST-MODIFIED:20230825T185442Z
DTSTART;TZID=America/Chicago:20231027T074500
DTEND;TZID=America/Chicago:20231027T084500
SUMMARY: Grand Rounds | Stroke
DESCRIPTION: Speaker: Amrou Sarraj Grand Rounds will be in person and parti
 cipants are invited to watch the lecture at 7:45 a.m. in either the Connor 
 or Moore Auditoriums. A zoom link will be emailed for participants not able
  to attend in person. This link is a recurring meeting link for all Neurolo
 gy Grand Rounds. All lectures […]
X-ALT-DESC;FMTTYPE=text/html: <p><strong>Speaker: Amrou Sarraj</strong></p>
 <p>Grand Rounds will be in person and participants are invited to watch the
  lecture at 7:45 a.m. in either the <a href="https://meet.wustl.edu/items/f
 ltc-connor/" rel="noopener" target="_blank">Connor</a> or <a href="https://
 medicine.wustl.edu/about/facilities/moore-auditorium/" rel="noopener" targe
 t="_blank">Moore</a> Auditoriums.  A zoom link will be emailed for particip
 ants not able to attend in person. This link is a recurring meeting link fo
 r all Neurology Grand Rounds. All lectures will be recorded for later viewi
 ng\, if speaker gives permission.</p><p>YOU’RE INVITED! Coffee\, Bagels and
  Conversations before Grand Rounds\, at 7:30 a.m.\, inside\, down front\, o
 f the auditorium. If you plan to attend\, <a href="mailto:c.mcintosh@wustl.
 edu?subject=RSVP for Coffee" rel="noopener" target="_blank">RSVP to Chrissy
  McIntosh</a> to reserve a spot so that we may order enough food and coffee
 . This event is open to all and we look forward to you joining us!</p>
CATEGORIES:Grand Rounds
LOCATION:Farrell Learning and Teaching Center
GEO:38.635942;-90.262836
ORGANIZER;CN="hbrian":MAILTO:hbrian@wustl.edu
URL;VALUE=URI:https://neurology.wustl.edu/events/event/grand-rounds-stroke-
 3/
END:VEVENT
BEGIN:VTIMEZONE
TZID:America/Chicago
BEGIN:DAYLIGHT
TZOFFSETFROM:-0600
TZOFFSETTO:-0500
DTSTART:20230312T080000
TZNAME:CDT
END:DAYLIGHT
END:VTIMEZONE
END:VCALENDAR
