BEGIN:VCALENDAR
VERSION:2.0
PRODID:-//Neurology//NONSGML Events//EN
CALSCALE:GREGORIAN
X-ORIGINAL-URL:https://neurology.wustl.edu/events-listing/
X-WR-CALDESC:Neurology - Events
BEGIN:VEVENT
UID:20221013T0604Z-1665641087.2856-EO-4450-1@172.23.128.19
STATUS:CONFIRMED
DTSTAMP:20260417T223441Z
CREATED:20221011T172118Z
LAST-MODIFIED:20221108T135505Z
DTSTART;TZID=America/Chicago:20221111T074500
DTEND;TZID=America/Chicago:20221111T084500
SUMMARY: Grand Rounds | General Division | Lindsey Frerichs\, MD | Recent U
 pdates in Headache Medicine
DESCRIPTION: Grand Rounds will be in person and participants are invited to
  watch the lecture at 7:45 a.m. in either the Connor or Moore Auditoriums. 
  A zoom link will be emailed for participants not able to attend in person.
   This link is a recurring meeting link for all Neurology Grand Rounds.  If
  attending in person and not […]
X-ALT-DESC;FMTTYPE=text/html: <p style="font-weight: 400\;">Grand Rounds wi
 ll be in person and participants are invited to watch the lecture at 7:45 a
 .m. in either the Connor or Moore Auditoriums.  A zoom link will be emailed
  for participants not able to attend in person.  This link is a recurring m
 eeting link for all Neurology Grand Rounds.  If attending in person and not
  familiar with campus COVID-19 updates\, please review the current <a href=
 "https://covid19.med.wustl.edu/working-on-campus/campus-safety-procedures/"
 >Campus Safety Procedures.</a>  All lectures will be recorded for later vie
 wing\, if speaker gives permission.</p><p style="font-weight: 400\;"> <stro
 ng><em>YOU’RE INVITED! Coffee\, Bagels and Conversations </em></strong>befo
 re Grand Rounds\, at <strong>7:30 a.m.</strong>\, inside\, down front\, of 
 the auditorium. If you plan to attend\, RSVP to <a href="mailto:c.mcintosh@
 wustl.edu?subject=RSVP%20for%20Coffee%20&%20Bagels">Chrissy McIntosh</a> to
  reserve a spot so that we may order enough food and coffee. This event is 
 open to all and we look forward to you joining us!</p>
CATEGORIES:2022-2023,Grand Rounds
LOCATION:Connor or Moore Auditorium
GEO:41.875562;-87.624421
ORGANIZER;CN="Katie Cammarata":MAILTO:cammarata@wustl.edu
URL;VALUE=URI:https://neurology.wustl.edu/events/event/grand-rounds-iddrc/
END:VEVENT
BEGIN:VTIMEZONE
TZID:America/Chicago
BEGIN:STANDARD
TZOFFSETFROM:-0500
TZOFFSETTO:-0600
DTSTART:20221106T070000
TZNAME:CST
END:STANDARD
END:VTIMEZONE
END:VCALENDAR
