BEGIN:VCALENDAR
VERSION:2.0
PRODID:-//Neurology//NONSGML Events//EN
CALSCALE:GREGORIAN
X-ORIGINAL-URL:https://neurology.wustl.edu/events-listing/
X-WR-CALDESC:Neurology - Events
BEGIN:VEVENT
UID:20220817T0542Z-1660714976.2511-EO-3817-1@172.23.128.19
STATUS:CONFIRMED
DTSTAMP:20260425T012804Z
CREATED:20220816T184945Z
LAST-MODIFIED:20220927T195900Z
DTSTART;TZID=America/Chicago:20220930T074500
DTEND;TZID=America/Chicago:20220930T084500
SUMMARY: Grand Rounds | Ganesh Babulal | Structural and Social Determinants
  of Health in Dementia Disparities
DESCRIPTION: Grand Rounds will be in person and participants are invited to
  watch the lecture at 7:45 a.m. in either the Connor or Moore Auditoriums. 
  A zoom link will be emailed for participants not able to attend in person.
   This link is a recurring meeting link for all Neurology Grand Rounds.  If
  attending in person and not […]
X-ALT-DESC;FMTTYPE=text/html: <p>Grand Rounds will be in person and partici
 pants are invited to watch the lecture at 7:45 a.m. in either the Connor or
  Moore Auditoriums.  A zoom link will be emailed for participants not able 
 to attend in person.  This link is a recurring meeting link for all Neurolo
 gy Grand Rounds.  If attending in person and not familiar with campus COVID
 -19 updates\, please review the current <a href="https://covid19.med.wustl.
 edu/working-on-campus/campus-safety-procedures/">Campus Safety Procedures.<
 /a>  All lectures will be recorded for later viewing\, if speaker gives per
 mission.</p><p><em><strong>YOU’RE INVITED! Coffee\, Bagels and Conversation
 s </strong></em>before Grand Rounds\, at <strong>7:30 a.m.</strong>\, insid
 e\, down front\, of the auditorium. If you plan to attend\, RSVP to <a href
 ="mailto:c.mcintosh@wustl.edu?subject=RSVP%20for%20Coffee%20&%20Bagels">Chr
 issy McIntosh</a> to reserve a spot so that we may order enough food and co
 ffee. This event is open to all and we look forward to you joining us!</p>
CATEGORIES:2022-2023,Grand Rounds
LOCATION:Connor or Moore Auditorium
GEO:41.875562;-87.624421
ORGANIZER;CN="Katie Cammarata":MAILTO:cammarata@wustl.edu
URL;VALUE=URI:https://neurology.wustl.edu/events/event/grand-rounds-dei/
END:VEVENT
BEGIN:VTIMEZONE
TZID:America/Chicago
BEGIN:DAYLIGHT
TZOFFSETFROM:-0600
TZOFFSETTO:-0500
DTSTART:20220313T080000
TZNAME:CDT
END:DAYLIGHT
END:VTIMEZONE
END:VCALENDAR
