BEGIN:VCALENDAR
VERSION:2.0
PRODID:-//Neurology//NONSGML Events//EN
CALSCALE:GREGORIAN
X-ORIGINAL-URL:https://neurology.wustl.edu/events-listing/
X-WR-CALDESC:Neurology - Events
BEGIN:VEVENT
UID:20250214T1816Z-1739556998.6029-EO-11330-1@10.73.10.224
STATUS:CONFIRMED
DTSTAMP:20260420T093935Z
CREATED:20221215T192338Z
LAST-MODIFIED:20221215T192338Z
DTSTART;TZID=America/Chicago:20221215T120000
DTEND;TZID=America/Chicago:20221215T130000
SUMMARY: DEI 4.0 Open Session (Stampp)
DESCRIPTION: Registration Link: https://wustl.sabacloud.com/Saba/Web_spf/SP
 CTNT456Site/common/registercatalog/virtc-0000065339 Jeramia Ory is inviting
  you to a scheduled Zoom meeting. Topic: DEI 4.0 Open Session (Stampp)Time:
  Dec 15\, 2022 12:00 PM Central Time (US and Canada) Join Zoom Meetinghttps
 ://wustl-hipaa.zoom.us/j/91416536434?pwd=SEtzWXl1NEdDRWh3WUhMTTBUZ0c2dz09 M
 eeting ID: 914 1653 6434Passcode: 333855One tap mobile+13092053325\,\,91416
 536434#\,\,\,\,*333855# US+13126266799\,\,91416536434#\,\,\,\,*333855# US (
 Chicago) Dial by your location +1 309 205 3325 US +1 312 626 […]
X-ALT-DESC;FMTTYPE=text/html: <p>Registration Link: https://wustl.sabacloud
 .com/Saba/Web_spf/SPCTNT456Site/common/registercatalog/virtc-0000065339</p>
 <p>Jeramia Ory is inviting you to a scheduled Zoom meeting.</p><p>Topic: DE
 I 4.0 Open Session (Stampp)<br />Time: Dec 15\, 2022 12:00 PM Central Time 
 (US and Canada)</p><p>Join Zoom Meeting<br />https://wustl-hipaa.zoom.us/j/
 91416536434?pwd=SEtzWXl1NEdDRWh3WUhMTTBUZ0c2dz09</p><p>Meeting ID: 914 1653
  6434<br />Passcode: 333855<br />One tap mobile<br />+13092053325\,\,914165
 36434#\,\,\,\,*333855# US<br />+13126266799\,\,91416536434#\,\,\,\,*333855#
  US (Chicago)</p><p>Dial by your location<br />        +1 309 205 3325 US<b
 r />        +1 312 626 6799 US (Chicago)<br />        +1 646 558 8656 US (N
 ew York)<br />        +1 646 931 3860 US<br />        +1 301 715 8592 US (W
 ashington DC)<br />        +1 305 224 1968 US<br />        +1 669 900 9128 
 US (San Jose)<br />        +1 689 278 1000 US<br />        +1 719 359 4580 
 US<br />        +1 253 205 0468 US<br />        +1 253 215 8782 US (Tacoma)
 <br />        +1 346 248 7799 US (Houston)<br />        +1 360 209 5623 US<
 br />        +1 386 347 5053 US<br />        +1 507 473 4847 US<br />      
   +1 564 217 2000 US<br />        +1 669 444 9171 US<br />Meeting ID: 914 1
 653 6434<br />Passcode: 333855<br />Find your local number: https://wustl-h
 ipaa.zoom.us/u/ack7Xfzprn</p><p>Join by SIP<br />91416536434@zoomcrc.com</p
 ><p>Join by H.323<br />162.255.37.11 (US West)<br />162.255.36.11 (US East)
 <br />115.114.131.7 (India Mumbai)<br />115.114.115.7 (India Hyderabad)<br 
 />213.19.144.110 (Amsterdam Netherlands)<br />213.244.140.110 (Germany)<br 
 />103.122.166.55 (Australia Sydney)<br />103.122.167.55 (Australia Melbourn
 e)<br />149.137.40.110 (Singapore)<br />64.211.144.160 (Brazil)<br />149.13
 7.68.253 (Mexico)<br />69.174.57.160 (Canada Toronto)<br />65.39.152.160 (C
 anada Vancouver)<br />207.226.132.110 (Japan Tokyo)<br />149.137.24.110 (Ja
 pan Osaka)<br />Meeting ID: 914 1653 6434<br />Passcode: 333855</p>
CATEGORIES:Training
LOCATION:https://wustl-hipaa.zoom.us/j/91416536434?pwd=SEtzWXl1NEdDRWh3WUhMTTBUZ0c2d
 z09
GEO:0.000000;0.000000
ORGANIZER;CN="Katie Cammarata":MAILTO:cammarata@wustl.edu
URL;VALUE=URI:https://neurology.wustl.edu/events/event/dei-4-0-open-session
 -stampp/
END:VEVENT
BEGIN:VTIMEZONE
TZID:America/Chicago
BEGIN:STANDARD
TZOFFSETFROM:-0500
TZOFFSETTO:-0600
DTSTART:20221106T070000
TZNAME:CST
END:STANDARD
END:VTIMEZONE
END:VCALENDAR
