BEGIN:VCALENDAR
VERSION:2.0
PRODID:-//Neurology//NONSGML Events//EN
CALSCALE:GREGORIAN
X-ORIGINAL-URL:https://neurology.wustl.edu/events-listing/
X-WR-CALDESC:Neurology - Events
BEGIN:VEVENT
UID:20250214T1816Z-1739556997.7897-EO-11328-1@10.73.10.224
STATUS:CONFIRMED
DTSTAMP:20260420T124525Z
CREATED:20221215T192338Z
LAST-MODIFIED:20221215T192338Z
DTSTART;TZID=America/Chicago:20221212T120000
DTEND;TZID=America/Chicago:20221212T130000
SUMMARY: DEI 3.0 Open Session (Stampp)
DESCRIPTION: Registration Link: https://wustl.sabacloud.com/Saba/Web_spf/SP
 CTNT456Site/common/registercatalog/virtc-0000065337 Jeramia Ory is inviting
  you to a scheduled Zoom meeting. Topic: DEI 3.0 Open Session (Stampp)Time:
  Dec 12\, 2022 12:00 PM Central Time (US and Canada) Join Zoom Meetinghttps
 ://wustl-hipaa.zoom.us/j/92680544852?pwd=YTNQbjlpeHpYSWFLb1FVWEFNRGM5Zz09 M
 eeting ID: 926 8054 4852Passcode: 482282One tap mobile+16465588656\,\,92680
 544852#\,\,\,\,*482282# US (New York)+16469313860\,\,92680544852#\,\,\,\,*4
 82282# US Dial by your location +1 646 558 8656 US (New York) […]
X-ALT-DESC;FMTTYPE=text/html: <p>Registration Link: https://wustl.sabacloud
 .com/Saba/Web_spf/SPCTNT456Site/common/registercatalog/virtc-0000065337</p>
 <p>Jeramia Ory is inviting you to a scheduled Zoom meeting.</p><p>Topic: DE
 I 3.0 Open Session (Stampp)<br />Time: Dec 12\, 2022 12:00 PM Central Time 
 (US and Canada)</p><p>Join Zoom Meeting<br />https://wustl-hipaa.zoom.us/j/
 92680544852?pwd=YTNQbjlpeHpYSWFLb1FVWEFNRGM5Zz09</p><p>Meeting ID: 926 8054
  4852<br />Passcode: 482282<br />One tap mobile<br />+16465588656\,\,926805
 44852#\,\,\,\,*482282# US (New York)<br />+16469313860\,\,92680544852#\,\,\
 ,\,*482282# US</p><p>Dial by your location<br />        +1 646 558 8656 US 
 (New York)<br />        +1 646 931 3860 US<br />        +1 301 715 8592 US 
 (Washington DC)<br />        +1 305 224 1968 US<br />        +1 309 205 332
 5 US<br />        +1 312 626 6799 US (Chicago)<br />        +1 564 217 2000
  US<br />        +1 669 444 9171 US<br />        +1 669 900 9128 US (San Jo
 se)<br />        +1 689 278 1000 US<br />        +1 719 359 4580 US<br />  
       +1 253 205 0468 US<br />        +1 253 215 8782 US (Tacoma)<br />    
     +1 346 248 7799 US (Houston)<br />        +1 360 209 5623 US<br />     
    +1 386 347 5053 US<br />        +1 507 473 4847 US<br />Meeting ID: 926 
 8054 4852<br />Passcode: 482282<br />Find your local number: https://wustl-
 hipaa.zoom.us/u/abNpnF6rb</p><p>Join by SIP<br />92680544852@zoomcrc.com</p
 ><p>Join by H.323<br />162.255.37.11 (US West)<br />162.255.36.11 (US East)
 <br />115.114.131.7 (India Mumbai)<br />115.114.115.7 (India Hyderabad)<br 
 />213.19.144.110 (Amsterdam Netherlands)<br />213.244.140.110 (Germany)<br 
 />103.122.166.55 (Australia Sydney)<br />103.122.167.55 (Australia Melbourn
 e)<br />149.137.40.110 (Singapore)<br />64.211.144.160 (Brazil)<br />149.13
 7.68.253 (Mexico)<br />69.174.57.160 (Canada Toronto)<br />65.39.152.160 (C
 anada Vancouver)<br />207.226.132.110 (Japan Tokyo)<br />149.137.24.110 (Ja
 pan Osaka)<br />Meeting ID: 926 8054 4852<br />Passcode: 482282</p>
CATEGORIES:Training
LOCATION:https://wustl-hipaa.zoom.us/j/92680544852?pwd=YTNQbjlpeHpYSWFLb1FVWEFNRGM5Z
 z09
GEO:0.000000;0.000000
ORGANIZER;CN="Katie Cammarata":MAILTO:cammarata@wustl.edu
URL;VALUE=URI:https://neurology.wustl.edu/events/event/dei-3-0-open-session
 -stampp/
END:VEVENT
BEGIN:VTIMEZONE
TZID:America/Chicago
BEGIN:STANDARD
TZOFFSETFROM:-0500
TZOFFSETTO:-0600
DTSTART:20221106T070000
TZNAME:CST
END:STANDARD
END:VTIMEZONE
END:VCALENDAR
