BEGIN:VCALENDAR
VERSION:2.0
PRODID:-//Neurology//NONSGML Events//EN
CALSCALE:GREGORIAN
X-ORIGINAL-URL:https://neurology.wustl.edu/events-listing/
X-WR-CALDESC:Neurology - Events
BEGIN:VEVENT
UID:20250214T1816Z-1739556999.8143-EO-11133-1@10.73.10.224
STATUS:CONFIRMED
DTSTAMP:20260421T122504Z
CREATED:20230803T171200Z
LAST-MODIFIED:20230803T171200Z
DTSTART;TZID=America/Chicago:20230911T090000
DTEND;TZID=America/Chicago:20230911T180000
SUMMARY: Computational Neuroscience Next Generation Symposium
DESCRIPTION: Registration is open for the CNNG Symposium @ WashU: Computati
 onal Neuroscience Next Generation Symposium at Washington University. Join 
 us September 11\, 2023 for an exciting day of talks and poster presentation
 s at the School of Medicine and Danforth campuses. CNNG Symposium @ WashU i
 s a prestigious symposium sponsored by the newly established Center for The
 oretical and […]
X-ALT-DESC;FMTTYPE=text/html: <p class="is-style-lead">Registration is open
  for the <strong>CNNG Symposium @ WashU</strong>: Computational Neuroscienc
 e Next Generation Symposium at Washington University.</p><p>Join us Septemb
 er 11\, 2023 for an exciting day of talks and poster presentations at the S
 chool of Medicine and Danforth campuses.</p><p>CNNG Symposium @ WashU is a 
 prestigious symposium sponsored by the newly established Center for Theoret
 ical and Computational Neuroscience (CTCN) at Washington University in St. 
 Louis. Eight selected senior graduate students from the US and Europe\, who
  are using primarily theoretical and computational techniques to study the 
 principles of brain organization and function\, are coming to WashU to shar
 e their thesis work\, learn about WashU’s stellar research environment\, an
 d expand their scientific network.</p><div class="wp-block-spacer" aria-hid
 den="true"></div><div class="wp-block-columns is-layout-flex wp-container-5
 "><div class="wp-block-column is-layout-flow"><div class="wp-block-buttons 
 is-content-justification-center is-layout-flex wp-container-1"><div class="
 wp-block-button"><a class="wp-block-button__link wp-element-button" href="h
 ttps://ctcn.wustl.edu/next-gen-symposium/">View program & register to atten
 d or present a poster by August 18</a></div></div></div><div class="wp-bloc
 k-column is-layout-flow"><div class="wp-block-buttons is-content-justificat
 ion-center is-layout-flex wp-container-3"><div class="wp-block-button"></di
 v></div></div></div>
CATEGORIES:Symposia
LOCATION:Moore Auditorium\, North Building
GEO:38.634886;-90.261692
ORGANIZER;CN="Katie Cammarata":MAILTO:cammarata@wustl.edu
URL;VALUE=URI:https://neurology.wustl.edu/events/event/computational-neuros
 cience-next-generation-symposium/
END:VEVENT
BEGIN:VTIMEZONE
TZID:America/Chicago
BEGIN:DAYLIGHT
TZOFFSETFROM:-0600
TZOFFSETTO:-0500
DTSTART:20230312T080000
TZNAME:CDT
END:DAYLIGHT
END:VTIMEZONE
END:VCALENDAR
