BEGIN:VCALENDAR
VERSION:2.0
PRODID:-//Neurology//NONSGML Events//EN
CALSCALE:GREGORIAN
X-ORIGINAL-URL:https://neurology.wustl.edu/events-listing/
X-WR-CALDESC:Neurology - Events
BEGIN:VEVENT
UID:20240103T0405Z-1704254711.6358-EO-8858-1@172.23.128.18
STATUS:CONFIRMED
DTSTAMP:20260417T223857Z
CREATED:20240102T172422Z
LAST-MODIFIED:20240102T172422Z
DTSTART;TZID=America/Chicago:20240329T120000
DTEND;TZID=America/Chicago:20240329T130000
SUMMARY: COBRAS Speaker Series
DESCRIPTION: Speaker/Title TBA Light lunch provided for attendees Holden Au
 ditorium\, FLTC
X-ALT-DESC;FMTTYPE=text/html: <p>Speaker/Title TBA<br />Light lunch provide
 d for attendees<br />Holden Auditorium\, FLTC</p>
CATEGORIES:COBRAS
LOCATION:Farrell Learning and Teaching Center
GEO:38.635942;-90.262836
ORGANIZER;CN="hbrian":MAILTO:hbrian@wustl.edu
URL;VALUE=URI:https://neurology.wustl.edu/events/event/cobras-speaker-serie
 s/
END:VEVENT
BEGIN:VTIMEZONE
TZID:America/Chicago
BEGIN:DAYLIGHT
TZOFFSETFROM:-0600
TZOFFSETTO:-0500
DTSTART:20240310T080000
TZNAME:CDT
END:DAYLIGHT
END:VTIMEZONE
END:VCALENDAR
