BEGIN:VCALENDAR
VERSION:2.0
PRODID:-//Neurology//NONSGML Events//EN
CALSCALE:GREGORIAN
X-ORIGINAL-URL:https://neurology.wustl.edu/events-listing/
X-WR-CALDESC:Neurology - Events
BEGIN:VEVENT
UID:20250214T1816Z-1739556996.584-EO-11248-1@10.73.10.224
STATUS:CONFIRMED
DTSTAMP:20260422T120926Z
CREATED:20181107T214514Z
LAST-MODIFIED:20181107T214514Z
DTSTART;TZID=America/Chicago:20190107T100000
DTEND;TZID=America/Chicago:20190107T110000
SUMMARY: 2.0 Diversity Training DBS
DESCRIPTION: Individuals with disabilities are encouraged to attend all Was
 hington University School of Medicine sponsored events. If you are a person
  with a disability who requires a reasonable accommodation in order to part
 icipate in this program\, please contact the Washington University School o
 f Medicine’s Office of Diversity\, Equity and Inclusion in advance at 314-2
 73-2809 or MedDEI@wustl.edu. 
X-ALT-DESC;FMTTYPE=text/html: <p><span class="x_xxxa0">Individuals with dis
 abilities are encouraged to attend all Washington University School of Medi
 cine sponsored events. If you are a person with a disability who requires a
  reasonable accommodation in order to participate in this program\, please 
 contact the Washington University School of Medicine’s Office of Diversity\
 , Equity and Inclusion in advance at 314-273-2809 or </span><span class="x_
 xxxa0"><a href="mailto:MedDEI@wustl.edu" target="_blank" rel="noopener nore
 ferrer" data-auth="NotApplicable">MedDEI@wustl.edu</a></span><span class="x
 _xxxa0">.</span><span class="x_xxxa0"> </span></p>
CATEGORIES:Training
ORGANIZER;CN="Katie Cammarata":MAILTO:cammarata@wustl.edu
URL;VALUE=URI:https://neurology.wustl.edu/events/event/2-0-diversity-traini
 ng-dbs/
END:VEVENT
BEGIN:VTIMEZONE
TZID:America/Chicago
BEGIN:STANDARD
TZOFFSETFROM:-0500
TZOFFSETTO:-0600
DTSTART:20181104T070000
TZNAME:CST
END:STANDARD
END:VTIMEZONE
END:VCALENDAR
